BEGIN:VCALENDAR
VERSION:2.0
PRODID:-//Les Ambassadeurs du commerce - ECPv6.15.20//NONSGML v1.0//EN
CALSCALE:GREGORIAN
METHOD:PUBLISH
X-WR-CALNAME:Les Ambassadeurs du commerce
X-ORIGINAL-URL:https://lesambassadeursducommerce.fr
X-WR-CALDESC:Évènements pour Les Ambassadeurs du commerce
REFRESH-INTERVAL;VALUE=DURATION:PT1H
X-Robots-Tag:noindex
X-PUBLISHED-TTL:PT1H
BEGIN:VTIMEZONE
TZID:Europe/Helsinki
BEGIN:DAYLIGHT
TZOFFSETFROM:+0200
TZOFFSETTO:+0300
TZNAME:EEST
DTSTART:20230326T010000
END:DAYLIGHT
BEGIN:STANDARD
TZOFFSETFROM:+0300
TZOFFSETTO:+0200
TZNAME:EET
DTSTART:20231029T010000
END:STANDARD
BEGIN:DAYLIGHT
TZOFFSETFROM:+0200
TZOFFSETTO:+0300
TZNAME:EEST
DTSTART:20240331T010000
END:DAYLIGHT
BEGIN:STANDARD
TZOFFSETFROM:+0300
TZOFFSETTO:+0200
TZNAME:EET
DTSTART:20241027T010000
END:STANDARD
BEGIN:DAYLIGHT
TZOFFSETFROM:+0200
TZOFFSETTO:+0300
TZNAME:EEST
DTSTART:20250330T010000
END:DAYLIGHT
BEGIN:STANDARD
TZOFFSETFROM:+0300
TZOFFSETTO:+0200
TZNAME:EET
DTSTART:20251026T010000
END:STANDARD
END:VTIMEZONE
BEGIN:VEVENT
DTSTART;TZID=Europe/Helsinki:20240705T080000
DTEND;TZID=Europe/Helsinki:20240831T170000
DTSTAMP:20260421T100825
CREATED:20250703T162218Z
LAST-MODIFIED:20250703T162218Z
UID:6061-1720166400-1725123600@lesambassadeursducommerce.fr
SUMMARY:Le petit train de Fécamp
DESCRIPTION:Le petit train de Fécamp fait son grand retour ! \nDu 2 au 31 août il sera possible de visiter la ville a bord !
URL:https://lesambassadeursducommerce.fr/evenement/le-petit-train-de-fecamp/
CATEGORIES:petit train
ATTACH;FMTTYPE=:
END:VEVENT
BEGIN:VEVENT
DTSTART;TZID=Europe/Helsinki:20240705T190000
DTEND;TZID=Europe/Helsinki:20240705T230000
DTSTAMP:20260421T100825
CREATED:20250703T162223Z
LAST-MODIFIED:20250703T162223Z
UID:6186-1720206000-1720220400@lesambassadeursducommerce.fr
SUMMARY:FESTIVAL ENFLAMMÉ HAUTE NORMANDIE
DESCRIPTION:APERO COMPLICE ET TABLEE CITOYENNE \nC’est dans le cadre magique de sa production que Sébastien Argentain\, maraîcher\, va accueillir le dîner complice de Normandie. Au milieu des herbes aromatiques et des légumes printaniers\, les producteurs se réuniront autour d’un Ofyr pour cuire à la flamme viandes normandes\, légumes de saison\, fruits du verger… Un dîner grandiose pour seulement 150 privilégiés ! \nAu Programme : \nVisite des serres en apéritif avec des rillettes au safran\, un carpaccio de poisson ou encore quelques cocktails\nDîner festif et complice \nAu Menu : \nLe dîner :\nMaquereau au BBQ\nPièce de boeuf normand et les légumes Argentain au \nBBQ\nLe camembert de trois façons : chaud\, classique et en glace de camembert\nRhubarbe fruits rouges chocolat blanc avec financier à la sarriette \nBoissons\nAccord bière-fromage\nCocktail de la distillerie de la Seine (martini fumé au thé vert) \n  \nRéservation : https://www.helloasso.com/associations/college-culinaire-de-france/evenements/festival-enflamme-octeville-sur-mer-college-culinaire-de-france
URL:https://lesambassadeursducommerce.fr/evenement/festival-enflamme-haute-normandie/
CATEGORIES:Festival
ATTACH;FMTTYPE=:
END:VEVENT
BEGIN:VEVENT
DTSTART;TZID=Europe/Helsinki:20240712T180000
DTEND;TZID=Europe/Helsinki:20240712T220000
DTSTAMP:20260421T100825
CREATED:20250703T162220Z
LAST-MODIFIED:20250703T162220Z
UID:6097-1720807200-1720821600@lesambassadeursducommerce.fr
SUMMARY:Marché Nocturne à Blangy le Château
DESCRIPTION:Marché nocturne le vendredi 12 juillet 2024 de 18 à 22h\, rue principale de Blangy le Château. \nRestauration et buvette sur place. \nRéservation exposants : 06 68 20 62 27
URL:https://lesambassadeursducommerce.fr/evenement/marche-nocturne-a-blangy-le-chateau-2/
CATEGORIES:Marché de nuit
ATTACH;FMTTYPE=:
END:VEVENT
BEGIN:VEVENT
DTSTART;TZID=Europe/Helsinki:20240713T190000
DTEND;TZID=Europe/Helsinki:20240713T233000
DTSTAMP:20260421T100825
CREATED:20250703T162218Z
LAST-MODIFIED:20250703T162218Z
UID:6047-1720897200-1720913400@lesambassadeursducommerce.fr
SUMMARY:Bal de cambremer
DESCRIPTION:La fiesta\, c’est à #cambremer le 13 juillet à partir de 19h sur le dance-floor !
URL:https://lesambassadeursducommerce.fr/evenement/bal-de-cambremer/
END:VEVENT
BEGIN:VEVENT
DTSTART;TZID=Europe/Helsinki:20240725T170000
DTEND;TZID=Europe/Helsinki:20240725T230000
DTSTAMP:20260421T100825
CREATED:20250703T162218Z
LAST-MODIFIED:20250703T162218Z
UID:6073-1721926800-1721948400@lesambassadeursducommerce.fr
SUMMARY:Marché nocturne de goderville
DESCRIPTION:Rendez-vous le jeudi 25 juillet\, de 17h à 23h\, dans le centre-bourg.\n\n\nChaque année\, plus de 100 exposants viennent proposer leurs créations\, produits et services : bijoux\, boissons artisanales\, bougies\, café\, céramiques\, couture\, décorations\, esthétisme\, jeux et jouets en bois\, maroquinerie\, puériculture\, réflexologie\, restauration\, savons\, sels\, textiles… Des commerçants proposeront aussi de la restauration.\n\n\nA cette occasion\, plusieurs rues et places seront interdites au stationnement et à la circulation entre 12h et 23h30\, notamment les rues Jean Prévost\, Saint Jacques et Orbe\, ainsi que les places Godard des Vaux\, de Verdun et Célestin Bellet.\n\n\nL’entrée au marché nocturne est libre et gratuite pour les visiteurs comme pour les exposants.
URL:https://lesambassadeursducommerce.fr/evenement/marche-nocturne-de-goderville/
CATEGORIES:Marché de nuit
ATTACH;FMTTYPE=:
END:VEVENT
END:VCALENDAR