BEGIN:VCALENDAR
VERSION:2.0
PRODID:-//Les Ambassadeurs du commerce - ECPv6.15.20//NONSGML v1.0//EN
CALSCALE:GREGORIAN
METHOD:PUBLISH
X-WR-CALNAME:Les Ambassadeurs du commerce
X-ORIGINAL-URL:https://lesambassadeursducommerce.fr
X-WR-CALDESC:Évènements pour Les Ambassadeurs du commerce
REFRESH-INTERVAL;VALUE=DURATION:PT1H
X-Robots-Tag:noindex
X-PUBLISHED-TTL:PT1H
BEGIN:VTIMEZONE
TZID:Europe/Helsinki
BEGIN:DAYLIGHT
TZOFFSETFROM:+0200
TZOFFSETTO:+0300
TZNAME:EEST
DTSTART:20230326T010000
END:DAYLIGHT
BEGIN:STANDARD
TZOFFSETFROM:+0300
TZOFFSETTO:+0200
TZNAME:EET
DTSTART:20231029T010000
END:STANDARD
BEGIN:DAYLIGHT
TZOFFSETFROM:+0200
TZOFFSETTO:+0300
TZNAME:EEST
DTSTART:20240331T010000
END:DAYLIGHT
BEGIN:STANDARD
TZOFFSETFROM:+0300
TZOFFSETTO:+0200
TZNAME:EET
DTSTART:20241027T010000
END:STANDARD
BEGIN:DAYLIGHT
TZOFFSETFROM:+0200
TZOFFSETTO:+0300
TZNAME:EEST
DTSTART:20250330T010000
END:DAYLIGHT
BEGIN:STANDARD
TZOFFSETFROM:+0300
TZOFFSETTO:+0200
TZNAME:EET
DTSTART:20251026T010000
END:STANDARD
END:VTIMEZONE
BEGIN:VEVENT
DTSTART;VALUE=DATE:20240627
DTEND;VALUE=DATE:20240628
DTSTAMP:20260419T223040
CREATED:20250703T162217Z
LAST-MODIFIED:20250703T162217Z
UID:5748-1719446400-1719532799@lesambassadeursducommerce.fr
SUMMARY:Marché nocturne de Notre Dame
DESCRIPTION:Rendez-vous jeudi 27 juin prochain pour le marché nocturne 2024 de Notre Dame. Venez découvrir le meilleur de l’artisanat havrais et vos nouveaux commerçants de quartier.\nCréateurs\, foodtrucks\, musique et bonne humeur vous attendent rue de Paris !
URL:https://lesambassadeursducommerce.fr/evenement/marche-nocturne-de-notre-dame/
ATTACH;FMTTYPE=:
END:VEVENT
END:VCALENDAR