BEGIN:VCALENDAR
VERSION:2.0
PRODID:-//Les Ambassadeurs du commerce - ECPv6.15.20//NONSGML v1.0//EN
CALSCALE:GREGORIAN
METHOD:PUBLISH
X-ORIGINAL-URL:https://lesambassadeursducommerce.fr
X-WR-CALDESC:Évènements pour Les Ambassadeurs du commerce
REFRESH-INTERVAL;VALUE=DURATION:PT1H
X-Robots-Tag:noindex
X-PUBLISHED-TTL:PT1H
BEGIN:VTIMEZONE
TZID:Europe/Helsinki
BEGIN:DAYLIGHT
TZOFFSETFROM:+0200
TZOFFSETTO:+0300
TZNAME:EEST
DTSTART:20230326T010000
END:DAYLIGHT
BEGIN:STANDARD
TZOFFSETFROM:+0300
TZOFFSETTO:+0200
TZNAME:EET
DTSTART:20231029T010000
END:STANDARD
BEGIN:DAYLIGHT
TZOFFSETFROM:+0200
TZOFFSETTO:+0300
TZNAME:EEST
DTSTART:20240331T010000
END:DAYLIGHT
BEGIN:STANDARD
TZOFFSETFROM:+0300
TZOFFSETTO:+0200
TZNAME:EET
DTSTART:20241027T010000
END:STANDARD
BEGIN:DAYLIGHT
TZOFFSETFROM:+0200
TZOFFSETTO:+0300
TZNAME:EEST
DTSTART:20250330T010000
END:DAYLIGHT
BEGIN:STANDARD
TZOFFSETFROM:+0300
TZOFFSETTO:+0200
TZNAME:EET
DTSTART:20251026T010000
END:STANDARD
END:VTIMEZONE
BEGIN:VEVENT
DTSTART;TZID=Europe/Helsinki:20240621T080000
DTEND;TZID=Europe/Helsinki:20240623T170000
DTSTAMP:20260419T223544
CREATED:20250703T162218Z
LAST-MODIFIED:20250703T162218Z
UID:6084-1718956800-1719162000@lesambassadeursducommerce.fr
SUMMARY:Les Juliobonales
DESCRIPTION:Les Juliobonales\, 5ème édition du festival gallo-romain de Lillebonne\, célèbrent du 21 au 23 juin 2024 les grandes heures de la puissante cité antique Juliobona. Le temps d’un week-end\, vous êtes convié à faire un bond dans le passé et à partager des moments d’émotion\, de rire et de découverte dans la Juliobona des premiers siècles de notre ère. De nombreuses animations tout public gratuites et des spectacles vous seront proposés le vendredi soir\, les samedi et dimanche !
URL:https://lesambassadeursducommerce.fr/evenement/les-juliobonales/
ATTACH;FMTTYPE=:
END:VEVENT
BEGIN:VEVENT
DTSTART;TZID=Europe/Helsinki:20240621T090000
DTEND;TZID=Europe/Helsinki:20240623T130000
DTSTAMP:20260419T223544
CREATED:20250703T162223Z
LAST-MODIFIED:20250703T162223Z
UID:6116-1718960400-1719147600@lesambassadeursducommerce.fr
SUMMARY:Les Commerçants du Quartier Centre-Halles Fêtent l’Eté
DESCRIPTION:Les Commerçants du Quartier Centre-Halles Fêtent l’Eté : \nPour la cinquième année\, l’Association des Commerçants et Artisans Centre-Halles organise un évènement commercial à l’approche de l’Eté dans son quartier. \nCette année\, l’évènement commencera par la Fête de la Musique dès le 21 juin puis continuera les 22 et 23 juin principalement dans le périmètre des rues piétonnes. Les rues Paul Doumer (entre les rues Dicquemare et Bernardin de Saint Pierre) et Victor Hugo  (entre les rues de Paris et Edouard Larue) seront piétonnisées pour l’occasion. \nPendant ces deux jours nous proposons aux commerçants de déballer devant leur commerce et aux commerçants de l’association qui sont un peu excentrés de profiter de l’occasion pour se faire un peu plus connaître en exposant dans le même périmètre. Enfin nous proposons à des commerçants\, artisans ou associations principalement du Havre et de la région de s’associer à la manifestation en cas d’emplacement inoccupé
URL:https://lesambassadeursducommerce.fr/evenement/les-commercants-du-quartier-centre-halles-fetent-lete/
CATEGORIES:Braderie,Fête de la musique
ATTACH;FMTTYPE=:
END:VEVENT
END:VCALENDAR