BEGIN:VCALENDAR
VERSION:2.0
PRODID:-//Les Ambassadeurs du commerce - ECPv6.15.20//NONSGML v1.0//EN
CALSCALE:GREGORIAN
METHOD:PUBLISH
X-ORIGINAL-URL:https://lesambassadeursducommerce.fr
X-WR-CALDESC:Évènements pour Les Ambassadeurs du commerce
REFRESH-INTERVAL;VALUE=DURATION:PT1H
X-Robots-Tag:noindex
X-PUBLISHED-TTL:PT1H
BEGIN:VTIMEZONE
TZID:Europe/Helsinki
BEGIN:DAYLIGHT
TZOFFSETFROM:+0200
TZOFFSETTO:+0300
TZNAME:EEST
DTSTART:20230326T010000
END:DAYLIGHT
BEGIN:STANDARD
TZOFFSETFROM:+0300
TZOFFSETTO:+0200
TZNAME:EET
DTSTART:20231029T010000
END:STANDARD
BEGIN:DAYLIGHT
TZOFFSETFROM:+0200
TZOFFSETTO:+0300
TZNAME:EEST
DTSTART:20240331T010000
END:DAYLIGHT
BEGIN:STANDARD
TZOFFSETFROM:+0300
TZOFFSETTO:+0200
TZNAME:EET
DTSTART:20241027T010000
END:STANDARD
BEGIN:DAYLIGHT
TZOFFSETFROM:+0200
TZOFFSETTO:+0300
TZNAME:EEST
DTSTART:20250330T010000
END:DAYLIGHT
BEGIN:STANDARD
TZOFFSETFROM:+0300
TZOFFSETTO:+0200
TZNAME:EET
DTSTART:20251026T010000
END:STANDARD
END:VTIMEZONE
BEGIN:VEVENT
DTSTART;VALUE=DATE:20240603
DTEND;VALUE=DATE:20240616
DTSTAMP:20260419T223544
CREATED:20250703T162223Z
LAST-MODIFIED:20250703T162223Z
UID:6171-1717372800-1718495999@lesambassadeursducommerce.fr
SUMMARY:Opération Fête des pères à Bolbec
DESCRIPTION:Opération fête des pères du 3 au 15 juin 2024\, \ntentez de remporter un bon cadeau à dépenser chez Corantine lingerie en devinant à quels commerçants appartiennent ces visages d’enfants !
URL:https://lesambassadeursducommerce.fr/evenement/operation-fete-des-peres-a-bolbec/
CATEGORIES:Jeux
ATTACH;FMTTYPE=:
END:VEVENT
END:VCALENDAR