BEGIN:VCALENDAR
VERSION:2.0
PRODID:-//Les Ambassadeurs du commerce - ECPv6.15.20//NONSGML v1.0//EN
CALSCALE:GREGORIAN
METHOD:PUBLISH
X-WR-CALNAME:Les Ambassadeurs du commerce
X-ORIGINAL-URL:https://lesambassadeursducommerce.fr
X-WR-CALDESC:Évènements pour Les Ambassadeurs du commerce
REFRESH-INTERVAL;VALUE=DURATION:PT1H
X-Robots-Tag:noindex
X-PUBLISHED-TTL:PT1H
BEGIN:VTIMEZONE
TZID:Europe/Helsinki
BEGIN:DAYLIGHT
TZOFFSETFROM:+0200
TZOFFSETTO:+0300
TZNAME:EEST
DTSTART:20230326T010000
END:DAYLIGHT
BEGIN:STANDARD
TZOFFSETFROM:+0300
TZOFFSETTO:+0200
TZNAME:EET
DTSTART:20231029T010000
END:STANDARD
BEGIN:DAYLIGHT
TZOFFSETFROM:+0200
TZOFFSETTO:+0300
TZNAME:EEST
DTSTART:20240331T010000
END:DAYLIGHT
BEGIN:STANDARD
TZOFFSETFROM:+0300
TZOFFSETTO:+0200
TZNAME:EET
DTSTART:20241027T010000
END:STANDARD
BEGIN:DAYLIGHT
TZOFFSETFROM:+0200
TZOFFSETTO:+0300
TZNAME:EEST
DTSTART:20250330T010000
END:DAYLIGHT
BEGIN:STANDARD
TZOFFSETFROM:+0300
TZOFFSETTO:+0200
TZNAME:EET
DTSTART:20251026T010000
END:STANDARD
END:VTIMEZONE
BEGIN:VEVENT
DTSTART;VALUE=DATE:20240603
DTEND;VALUE=DATE:20240616
DTSTAMP:20260419T222924
CREATED:20250703T162223Z
LAST-MODIFIED:20250703T162223Z
UID:6171-1717372800-1718495999@lesambassadeursducommerce.fr
SUMMARY:Opération Fête des pères à Bolbec
DESCRIPTION:Opération fête des pères du 3 au 15 juin 2024\, \ntentez de remporter un bon cadeau à dépenser chez Corantine lingerie en devinant à quels commerçants appartiennent ces visages d’enfants !
URL:https://lesambassadeursducommerce.fr/evenement/operation-fete-des-peres-a-bolbec/
CATEGORIES:Jeux
ATTACH;FMTTYPE=:
END:VEVENT
BEGIN:VEVENT
DTSTART;TZID=Europe/Helsinki:20240606T080000
DTEND;TZID=Europe/Helsinki:20240608T170000
DTSTAMP:20260419T222924
CREATED:20250703T162219Z
LAST-MODIFIED:20250703T162219Z
UID:6088-1717660800-1717866000@lesambassadeursducommerce.fr
SUMMARY:Braderie des commerçants de Port-Jérôme-sur-seine
DESCRIPTION: **Grande Braderie des Commerçants à Port-Jérôme-sur-Seine ! ** **Du 6 au 8 juin 2024** Venez profiter des **promotions exceptionnelles** et des **prix ronds** chez vos commerçants préférés\, membres de l’association « Gravenchon Dynamique Commerce ».**Thème de la braderie : Le Cirque** Et pour encore plus de fun\, ne manquez pas l’**initiation et déambulation sur le thème du cirque** animée par l’association « Les Zouaves » le **samedi 8 juin** : **De 10h à 12h et de 13h30 à 17h30** Un rendez-vous à ne pas manquer pour petits et grands ! Venez nombreux et laissez-vous emporter par la magie du cirque tout en faisant de bonnes affaires !
URL:https://lesambassadeursducommerce.fr/evenement/braderie-des-commercants-de-port-jerome-sur-seine/
CATEGORIES:Braderie
ATTACH;FMTTYPE=:
END:VEVENT
BEGIN:VEVENT
DTSTART;TZID=Europe/Helsinki:20240607T180000
DTEND;TZID=Europe/Helsinki:20240607T220000
DTSTAMP:20260419T222924
CREATED:20250703T162217Z
LAST-MODIFIED:20250703T162217Z
UID:5838-1717783200-1717797600@lesambassadeursducommerce.fr
SUMMARY:Marché Nocturne à Blangy le Château
DESCRIPTION:Marché nocturne le vendredi 7 juin 2024 de 18 à 22h\, rue principale de Blangy le Château. \nRestauration et buvette sur place. \nRéservation exposants : 06 68 20 62 27
URL:https://lesambassadeursducommerce.fr/evenement/marche-nocturne-a-blangy-le-chateau/
END:VEVENT
END:VCALENDAR